BEGIN:VCALENDAR
VERSION:2.0
PRODID:-//DanceFlurry Organization - ECPv6.15.20//NONSGML v1.0//EN
CALSCALE:GREGORIAN
METHOD:PUBLISH
X-WR-CALNAME:DanceFlurry Organization
X-ORIGINAL-URL:https://www.danceflurry.org
X-WR-CALDESC:Events for DanceFlurry Organization
REFRESH-INTERVAL;VALUE=DURATION:PT1H
X-Robots-Tag:noindex
X-PUBLISHED-TTL:PT1H
BEGIN:VTIMEZONE
TZID:America/New_York
BEGIN:DAYLIGHT
TZOFFSETFROM:-0500
TZOFFSETTO:-0400
TZNAME:EDT
DTSTART:20250309T070000
END:DAYLIGHT
BEGIN:STANDARD
TZOFFSETFROM:-0400
TZOFFSETTO:-0500
TZNAME:EST
DTSTART:20251102T060000
END:STANDARD
BEGIN:DAYLIGHT
TZOFFSETFROM:-0500
TZOFFSETTO:-0400
TZNAME:EDT
DTSTART:20260308T070000
END:DAYLIGHT
BEGIN:STANDARD
TZOFFSETFROM:-0400
TZOFFSETTO:-0500
TZNAME:EST
DTSTART:20261101T060000
END:STANDARD
BEGIN:DAYLIGHT
TZOFFSETFROM:-0500
TZOFFSETTO:-0400
TZNAME:EDT
DTSTART:20270314T070000
END:DAYLIGHT
BEGIN:STANDARD
TZOFFSETFROM:-0400
TZOFFSETTO:-0500
TZNAME:EST
DTSTART:20271107T060000
END:STANDARD
END:VTIMEZONE
BEGIN:VEVENT
DTSTART;TZID=America/New_York:20260502T193000
DTEND;TZID=America/New_York:20260502T220000
DTSTAMP:20260423T052600
CREATED:20260422T155347Z
LAST-MODIFIED:20260422T211112Z
UID:10004001-1777750200-1777759200@www.danceflurry.org
SUMMARY:Octagon Barn Dance Social
DESCRIPTION:Join us in the uniquely beautiful setting of the Knox Octagonal Barn for a delightful evening of community and dancing to live music by Tamarac!!   \n\n\n\nFun\, simple dances from the U.S. and around the World. For every age and ability.  \n\n\n\nAll dances will be taught by caller Paul Rosenberg. Circles\, contras\, squares. Partner and non-partner dances. \n\n\n\nAll ages welcome\, no partner or experience needed. \n\n\n\nSuggested donations: Adults – $5 – $10; Children $2Download the flyer here.  Masks are optional \n\n\n\nFor more information\, contact Paul at 518-482-9255 or paul@homespun.biz.  This is an affiliate event of the DanceFlurry Organization. \n\n\n\n\n\n\n\nDirections from Altamont: Take Rte 146 out Maple Ave. Turn left at stop sign and follow Rte. 1463+ miles. At Town Garage and Township Tavern (past Quay Rd)\, turn left into the wide intersection\, then immediately right\, onto Co. Rte. 262 (Middle Rd) . Follow Middle Rd through two stop signs (Knox Cave Rd\, and Beebe Rd). Barn is the solo building on the left\, just past Beebe Rd.For GPS:  Knox Octagon Barn\, 588 Middle Road\, Delanson\, NY 12053.
URL:https://www.danceflurry.org/event/octagon-barn-dance-social_5-2-26/
LOCATION:Knox Octagon Barn\, 588 Middle Road\, Delanson\, NY\, 12053\, United States
CATEGORIES:Community & Family Dances,Contra
ATTACH;FMTTYPE=image/jpeg:https://www.danceflurry.org/wp-content/uploads/2018/10/octagon.jpg
END:VEVENT
BEGIN:VEVENT
DTSTART;TZID=America/New_York:20260509T191500
DTEND;TZID=America/New_York:20260509T223000
DTSTAMP:20260423T052600
CREATED:20260406T235552Z
LAST-MODIFIED:20260407T001954Z
UID:10003993-1778354100-1778365800@www.danceflurry.org
SUMMARY:North Berkshire Community Dance
DESCRIPTION:* At the Williamstown location * \n\n\n\nFern Bradley calling \n\n\n\nAdmission is pay-as-you-can:  $5 – $15\, or barter equivalent\, suggested.  \n\n\n\nAs a community dance in a small college town\, we welcome people of all ages and backgrounds into the ever-changing tradition of New England contra dance.  Contra dancing is the contemporary face of a living tradition; some of the dances are hundreds of years old\, some are recently composed. Some of the dances are hundreds of years old\, some are recently composed; all are good fun and a pleasurable occasion for meeting and interacting with people both new and familiar. \n\n\n\n\n\n\n\nEveryone is welcome. New dancers and families with children are encouraged to arrive at 7:15 for an introductory lesson. Come with or without a partner; most people change partners for each dance throughout the evening. \n\n\n\nCovid Policy: Masks are optional\, and we are no longer checking vaccination status.   \n\n\n\nFor more information\,  Visit www.northberkshiredance.org or the Facebook page at www.facebook.com/northberkshiredance/. \n\n\n\nUPCOMING DANCES\n\n\n\n\n\n\n\nWe send a quick email reminder once a month before each dance. If you would like to be included\, you can subscribe here. \n\n\n\n\nMay 9th: Williamstown. Fern Bradley will call; plus music by a very fine band.\n\n\n\nJune 13th: North Adams. Open band led by George Wilson and Becking Hollingsworth\, homegrown callers.\n\n\n\nJuly 11th: North Adams\n\n\n\nAugust 8th: North Adams\n\n\n\nSeptember 26th (fourth Saturday): Williamstown. Jeff Walker will call using Gents and Ladies role terms\, music by Jeff and Kathy Walker.\n\n\n\nOctober 10th: Williamstown. Luke Donforth will call to music by “Trois Amies” (Andy Davis\, Laurie Indenbaum\, Mary Cay Brass)\n\n\n\nNovember 14th: Williamstown. Quena Crain will call.\n\n\n\nDecember 12th: Williamstown.\n\n\n\n\nFor more information\, visit www.northberkshiredance.org\, see the Facebook page at www.facebook.com/northberkshiredance/\,  or contact doonemackay@gmail.com. 
URL:https://www.danceflurry.org/event/north-berkshire-community-dance_5-9-26/
LOCATION:First Congregational Church\, Williamstown MA\, 906 Main Street\, Williamstown\, Massachusetts\, 01267\, United States
CATEGORIES:Community & Family Dances,Contra
ATTACH;FMTTYPE=image/png:https://www.danceflurry.org/wp-content/uploads/2022/09/generic-contra-banner-1200-pixels-wide.png
END:VEVENT
END:VCALENDAR