BEGIN:VCALENDAR
VERSION:2.0
PRODID:-//DanceFlurry Organization - ECPv6.15.20//NONSGML v1.0//EN
CALSCALE:GREGORIAN
METHOD:PUBLISH
X-ORIGINAL-URL:https://www.danceflurry.org
X-WR-CALDESC:Events for DanceFlurry Organization
REFRESH-INTERVAL;VALUE=DURATION:PT1H
X-Robots-Tag:noindex
X-PUBLISHED-TTL:PT1H
BEGIN:VTIMEZONE
TZID:America/New_York
BEGIN:DAYLIGHT
TZOFFSETFROM:-0500
TZOFFSETTO:-0400
TZNAME:EDT
DTSTART:20250309T070000
END:DAYLIGHT
BEGIN:STANDARD
TZOFFSETFROM:-0400
TZOFFSETTO:-0500
TZNAME:EST
DTSTART:20251102T060000
END:STANDARD
BEGIN:DAYLIGHT
TZOFFSETFROM:-0500
TZOFFSETTO:-0400
TZNAME:EDT
DTSTART:20260308T070000
END:DAYLIGHT
BEGIN:STANDARD
TZOFFSETFROM:-0400
TZOFFSETTO:-0500
TZNAME:EST
DTSTART:20261101T060000
END:STANDARD
BEGIN:DAYLIGHT
TZOFFSETFROM:-0500
TZOFFSETTO:-0400
TZNAME:EDT
DTSTART:20270314T070000
END:DAYLIGHT
BEGIN:STANDARD
TZOFFSETFROM:-0400
TZOFFSETTO:-0500
TZNAME:EST
DTSTART:20271107T060000
END:STANDARD
END:VTIMEZONE
BEGIN:VEVENT
DTSTART;TZID=America/New_York:20260717T193000
DTEND;TZID=America/New_York:20260717T220000
DTSTAMP:20260421T101610
CREATED:20260317T191158Z
LAST-MODIFIED:20260317T191538Z
UID:10003984-1784316600-1784325600@www.danceflurry.org
SUMMARY:Tri-City Folk Dancers
DESCRIPTION:Most Fridays 7:30-10:00Occasional “Daylight Dances” on Saturday and Sunday afternoons.  Check calendar or FB. \n\n\n\n Scotia United Methodist Church\, 201 N Ten Broeck St\, Scotia\, NY 12302 \n\n\n\nInternational Folk Dancing includes the traditional dances of many countries and cultures done to authentic music in a variety of formations (long and short lines\, circles\, broken circles\, and a few duos\, trios\, and individual). Our group is particularly fond of dances from the Balkan countries (Bulgaria\, Macedonia\, Albania\, Croatia and Serbia)\, Romania\, Greece\, Turkey\, Armenia\, Israel\, Brittany\, French Canada and other countries. We mostly dance to recorded music but have live music events a few times a year. \n\n\n\nWe welcome all ages and genders\, and no partner is necessary\, as most dances do not involve couples. We welcome beginners and children who are interested in dancing. We encourage those to come early in the evening when instruction is emphasized and tailored to newer dancers. Typically\, the level of difficulty increases as the evening progresses\, and we move on to dances requested by the group. \n\n\n\nComfortable clothing and clean\, soft-soled shoes are recommended. \n\n\n\nParking is free\, and we enter the building from the door nearest the parking lot. We ask a donation of $8\, as you are able. \n\n\n\nQuestions? Want to be added to (or deleted from) our email list?  Contact Barb or Bob at (518) 452-1154\, or email Barb at macleanbarb@aol.com.
URL:https://www.danceflurry.org/event/tri-city-folk-dancers/2026-07-17/
LOCATION:Scotia Methodist Church\, 201 North Ten Broeck\, Scotia\, 12302\, New York\, United States
CATEGORIES:International Folk
ATTACH;FMTTYPE=image/jpeg:https://www.danceflurry.org/wp-content/uploads/2020/02/TriCity-d.jpg
END:VEVENT
BEGIN:VEVENT
DTSTART;TZID=America/New_York:20260724T193000
DTEND;TZID=America/New_York:20260724T220000
DTSTAMP:20260421T101610
CREATED:20260317T191158Z
LAST-MODIFIED:20260317T191538Z
UID:10003985-1784921400-1784930400@www.danceflurry.org
SUMMARY:Tri-City Folk Dancers
DESCRIPTION:Most Fridays 7:30-10:00Occasional “Daylight Dances” on Saturday and Sunday afternoons.  Check calendar or FB. \n\n\n\n Scotia United Methodist Church\, 201 N Ten Broeck St\, Scotia\, NY 12302 \n\n\n\nInternational Folk Dancing includes the traditional dances of many countries and cultures done to authentic music in a variety of formations (long and short lines\, circles\, broken circles\, and a few duos\, trios\, and individual). Our group is particularly fond of dances from the Balkan countries (Bulgaria\, Macedonia\, Albania\, Croatia and Serbia)\, Romania\, Greece\, Turkey\, Armenia\, Israel\, Brittany\, French Canada and other countries. We mostly dance to recorded music but have live music events a few times a year. \n\n\n\nWe welcome all ages and genders\, and no partner is necessary\, as most dances do not involve couples. We welcome beginners and children who are interested in dancing. We encourage those to come early in the evening when instruction is emphasized and tailored to newer dancers. Typically\, the level of difficulty increases as the evening progresses\, and we move on to dances requested by the group. \n\n\n\nComfortable clothing and clean\, soft-soled shoes are recommended. \n\n\n\nParking is free\, and we enter the building from the door nearest the parking lot. We ask a donation of $8\, as you are able. \n\n\n\nQuestions? Want to be added to (or deleted from) our email list?  Contact Barb or Bob at (518) 452-1154\, or email Barb at macleanbarb@aol.com.
URL:https://www.danceflurry.org/event/tri-city-folk-dancers/2026-07-24/
LOCATION:Scotia Methodist Church\, 201 North Ten Broeck\, Scotia\, 12302\, New York\, United States
CATEGORIES:International Folk
ATTACH;FMTTYPE=image/jpeg:https://www.danceflurry.org/wp-content/uploads/2020/02/TriCity-d.jpg
END:VEVENT
BEGIN:VEVENT
DTSTART;TZID=America/New_York:20260731T193000
DTEND;TZID=America/New_York:20260731T220000
DTSTAMP:20260421T101610
CREATED:20260317T191158Z
LAST-MODIFIED:20260317T191538Z
UID:10003986-1785526200-1785535200@www.danceflurry.org
SUMMARY:Tri-City Folk Dancers
DESCRIPTION:Most Fridays 7:30-10:00Occasional “Daylight Dances” on Saturday and Sunday afternoons.  Check calendar or FB. \n\n\n\n Scotia United Methodist Church\, 201 N Ten Broeck St\, Scotia\, NY 12302 \n\n\n\nInternational Folk Dancing includes the traditional dances of many countries and cultures done to authentic music in a variety of formations (long and short lines\, circles\, broken circles\, and a few duos\, trios\, and individual). Our group is particularly fond of dances from the Balkan countries (Bulgaria\, Macedonia\, Albania\, Croatia and Serbia)\, Romania\, Greece\, Turkey\, Armenia\, Israel\, Brittany\, French Canada and other countries. We mostly dance to recorded music but have live music events a few times a year. \n\n\n\nWe welcome all ages and genders\, and no partner is necessary\, as most dances do not involve couples. We welcome beginners and children who are interested in dancing. We encourage those to come early in the evening when instruction is emphasized and tailored to newer dancers. Typically\, the level of difficulty increases as the evening progresses\, and we move on to dances requested by the group. \n\n\n\nComfortable clothing and clean\, soft-soled shoes are recommended. \n\n\n\nParking is free\, and we enter the building from the door nearest the parking lot. We ask a donation of $8\, as you are able. \n\n\n\nQuestions? Want to be added to (or deleted from) our email list?  Contact Barb or Bob at (518) 452-1154\, or email Barb at macleanbarb@aol.com.
URL:https://www.danceflurry.org/event/tri-city-folk-dancers/2026-07-31/
LOCATION:Scotia Methodist Church\, 201 North Ten Broeck\, Scotia\, 12302\, New York\, United States
CATEGORIES:International Folk
ATTACH;FMTTYPE=image/jpeg:https://www.danceflurry.org/wp-content/uploads/2020/02/TriCity-d.jpg
END:VEVENT
BEGIN:VEVENT
DTSTART;TZID=America/New_York:20260802T170000
DTEND;TZID=America/New_York:20260802T210000
DTSTAMP:20260421T101610
CREATED:20250127T211003Z
LAST-MODIFIED:20260115T200757Z
UID:10003964-1785690000-1785704400@www.danceflurry.org
SUMMARY:Buhrmaster Barn Dance
DESCRIPTION:Contras and Squares danced in the Barn on the grounds of the c. 1830 Pruyn House and garden. Enjoy Sundays this summer even more! \n\n\n\nAll Dances Taught. Friendly People. Everyone Welcome. No Partner Needed\, Come Alone or with a Friend or Three \n\n\n\nCOVID Considerations:  \n\n\n\n\nMasking is optional and vaccination is strongly encouraged and appreciated.\n\n\n\n\nGATHER FOR POTLUCK DINNER at 5 pmDANCING at 6 – 9 pm 7/6  \n\n\n\n$20 General Public \n\n\n\n$17 DFO Members & Seniors \n\n\n\n$6 Students \n\n\n\n\nDirections from Exit 5 of Northway (I-87):\n\n\n\nNorthbound: Go right onto Rt. 155. Turn left onto Old Niskayuna Road (just before overpass).\n\n\n\nSouthbound: Go left onto Rt. 155\, go under overpass\, turn right onto Old Niskayuna Road.\n\n\n\nThe Buhrmaster Barn is 1⁄2 mile on left\, behind the Pruyn House at 207\n\n\n\nOld Niskayuna Road\, Colonie\, New York.
URL:https://www.danceflurry.org/event/buhrmaster-barn-dance-6-14-26/2026-08-02/
LOCATION:Pruyn House\, Buhrmaster Barn\, 207 Old Niskayuna Rd.\, Loudonville\, NY\, 12110
CATEGORIES:Contra
ATTACH;FMTTYPE=image/jpeg:https://www.danceflurry.org/wp-content/uploads/2025/01/Buhrrmaster-Banner.jpg
END:VEVENT
BEGIN:VEVENT
DTSTART;TZID=America/New_York:20260808T191500
DTEND;TZID=America/New_York:20260808T223000
DTSTAMP:20260421T101610
CREATED:20260407T000653Z
LAST-MODIFIED:20260407T002309Z
UID:10003996-1786216500-1786228200@www.danceflurry.org
SUMMARY:North Berkshire Community Dance
DESCRIPTION:* Moving to North Adams for the summer!  * \n\n\n\nGood music\, good dancing\, good fun\, details TBA \n\n\n\nAdmission is pay-as-you-can:  $5 – $15\, or barter equivalent\, suggested.  \n\n\n\nAs a community dance in a small college town\, we welcome people of all ages and backgrounds into the ever-changing tradition of New England contra dance.  Contra dancing is the contemporary face of a living tradition; some of the dances are hundreds of years old\, some are recently composed. Some of the dances are hundreds of years old\, some are recently composed; all are good fun and a pleasurable occasion for meeting and interacting with people both new and familiar. \n\n\n\n\n\n\n\nEveryone is welcome. New dancers and families with children are encouraged to arrive at 7:15 for an introductory lesson. Come with or without a partner; most people change partners for each dance throughout the evening. \n\n\n\nCovid Policy: Masks are optional\, and we are no longer checking vaccination status.   \n\n\n\nFor more information\,  Visit www.northberkshiredance.org or the Facebook page at www.facebook.com/northberkshiredance/. \n\n\n\nUPCOMING DANCES\n\n\n\n\n\n\n\nWe send a quick email reminder once a month before each dance. If you would like to be included\, you can subscribe here. \n\n\n\n\nMay 9th: Williamstown. Fern Bradley will call; plus music by a very fine band.\n\n\n\nJune 13th: North Adams. Open band led by George Wilson and Becking Hollingsworth\, homegrown callers.\n\n\n\nJuly 11th: North Adams\n\n\n\nAugust 8th: North Adams\n\n\n\nSeptember 26th (fourth Saturday): Williamstown. Jeff Walker will call using Gents and Ladies role terms\, music by Jeff and Kathy Walker.\n\n\n\nOctober 10th: Williamstown. Luke Donforth will call to music by “Trois Amies” (Andy Davis\, Laurie Indenbaum\, Mary Cay Brass)\n\n\n\nNovember 14th: Williamstown. Quena Crain will call.\n\n\n\nDecember 12th: Williamstown.\n\n\n\n\nFor more information\, visit www.northberkshiredance.org\, see the Facebook page at www.facebook.com/northberkshiredance/\,  or contact doonemackay@gmail.com. 
URL:https://www.danceflurry.org/event/north-berkshire-community-dance_8-8-26/
LOCATION:All Saints Episcopal Church\, 59 Summer St.\, North Adams\, Massachusetts\, 01247\, United States
CATEGORIES:Community & Family Dances,Contra
ATTACH;FMTTYPE=image/png:https://www.danceflurry.org/wp-content/uploads/2022/09/generic-contra-banner-1200-pixels-wide.png
END:VEVENT
BEGIN:VEVENT
DTSTART;TZID=America/New_York:20260816T170000
DTEND;TZID=America/New_York:20260816T210000
DTSTAMP:20260421T101610
CREATED:20250127T211003Z
LAST-MODIFIED:20260115T200757Z
UID:10003965-1786899600-1786914000@www.danceflurry.org
SUMMARY:Buhrmaster Barn Dance
DESCRIPTION:Contras and Squares danced in the Barn on the grounds of the c. 1830 Pruyn House and garden. Enjoy Sundays this summer even more! \n\n\n\nAll Dances Taught. Friendly People. Everyone Welcome. No Partner Needed\, Come Alone or with a Friend or Three \n\n\n\nCOVID Considerations:  \n\n\n\n\nMasking is optional and vaccination is strongly encouraged and appreciated.\n\n\n\n\nGATHER FOR POTLUCK DINNER at 5 pmDANCING at 6 – 9 pm 7/6  \n\n\n\n$20 General Public \n\n\n\n$17 DFO Members & Seniors \n\n\n\n$6 Students \n\n\n\n\nDirections from Exit 5 of Northway (I-87):\n\n\n\nNorthbound: Go right onto Rt. 155. Turn left onto Old Niskayuna Road (just before overpass).\n\n\n\nSouthbound: Go left onto Rt. 155\, go under overpass\, turn right onto Old Niskayuna Road.\n\n\n\nThe Buhrmaster Barn is 1⁄2 mile on left\, behind the Pruyn House at 207\n\n\n\nOld Niskayuna Road\, Colonie\, New York.
URL:https://www.danceflurry.org/event/buhrmaster-barn-dance-6-14-26/2026-08-16/
LOCATION:Pruyn House\, Buhrmaster Barn\, 207 Old Niskayuna Rd.\, Loudonville\, NY\, 12110
CATEGORIES:Contra
ATTACH;FMTTYPE=image/jpeg:https://www.danceflurry.org/wp-content/uploads/2025/01/Buhrrmaster-Banner.jpg
END:VEVENT
BEGIN:VEVENT
DTSTART;TZID=America/New_York:20260926T191500
DTEND;TZID=America/New_York:20260926T223000
DTSTAMP:20260421T101610
CREATED:20260407T000944Z
LAST-MODIFIED:20260407T002343Z
UID:10003997-1790450100-1790461800@www.danceflurry.org
SUMMARY:North Berkshire Community Dance
DESCRIPTION:* Back to Williamstown AND it’s the fourth Saturday! *(Just to keep you on your toes)  \n\n\n\nJeff Walker will call using Gents and Ladies role terms Music by Jeff and Kathy Walker \n\n\n\nAdmission is pay-as-you-can:  $5 – $15\, or barter equivalent\, suggested.  \n\n\n\nAs a community dance in a small college town\, we welcome people of all ages and backgrounds into the ever-changing tradition of New England contra dance.  Contra dancing is the contemporary face of a living tradition; some of the dances are hundreds of years old\, some are recently composed. Some of the dances are hundreds of years old\, some are recently composed; all are good fun and a pleasurable occasion for meeting and interacting with people both new and familiar. \n\n\n\n\n\n\n\nEveryone is welcome. New dancers and families with children are encouraged to arrive at 7:15 for an introductory lesson. Come with or without a partner; most people change partners for each dance throughout the evening. \n\n\n\nCovid Policy: Masks are optional\, and we are no longer checking vaccination status.   \n\n\n\nFor more information\,  Visit www.northberkshiredance.org or the Facebook page at www.facebook.com/northberkshiredance/. \n\n\n\nUPCOMING DANCES\n\n\n\n\n\n\n\nWe send a quick email reminder once a month before each dance. If you would like to be included\, you can subscribe here. \n\n\n\n\nMay 9th: Williamstown. Fern Bradley will call; plus music by a very fine band.\n\n\n\nJune 13th: North Adams. Open band led by George Wilson and Becking Hollingsworth\, homegrown callers.\n\n\n\nJuly 11th: North Adams\n\n\n\nAugust 8th: North Adams\n\n\n\nSeptember 26th (fourth Saturday): Williamstown. Jeff Walker will call using Gents and Ladies role terms\, music by Jeff and Kathy Walker.\n\n\n\nOctober 10th: Williamstown. Luke Donforth will call to music by “Trois Amies” (Andy Davis\, Laurie Indenbaum\, Mary Cay Brass)\n\n\n\nNovember 14th: Williamstown. Quena Crain will call.\n\n\n\nDecember 12th: Williamstown.\n\n\n\n\nFor more information\, visit www.northberkshiredance.org\, see the Facebook page at www.facebook.com/northberkshiredance/\,  or contact doonemackay@gmail.com. 
URL:https://www.danceflurry.org/event/north-berkshire-community-dance_9-26-26/
LOCATION:All Saints Episcopal Church\, 59 Summer St.\, North Adams\, Massachusetts\, 01247\, United States
CATEGORIES:Community & Family Dances,Contra
ATTACH;FMTTYPE=image/png:https://www.danceflurry.org/wp-content/uploads/2022/09/generic-contra-banner-1200-pixels-wide.png
END:VEVENT
BEGIN:VEVENT
DTSTART;TZID=America/New_York:20261010T191500
DTEND;TZID=America/New_York:20261010T223000
DTSTAMP:20260421T101610
CREATED:20260407T001101Z
LAST-MODIFIED:20260407T002428Z
UID:10003998-1791659700-1791671400@www.danceflurry.org
SUMMARY:North Berkshire Community Dance
DESCRIPTION:* Williamstown location *Luke Donforth will call to music by “Trois Amies” (Andy Davis\, Laurie Indenbaum\, Mary Cay Brass) \n\n\n\nAdmission is pay-as-you-can:  $5 – $15\, or barter equivalent\, suggested.  \n\n\n\nAs a community dance in a small college town\, we welcome people of all ages and backgrounds into the ever-changing tradition of New England contra dance.  Contra dancing is the contemporary face of a living tradition; some of the dances are hundreds of years old\, some are recently composed. Some of the dances are hundreds of years old\, some are recently composed; all are good fun and a pleasurable occasion for meeting and interacting with people both new and familiar. \n\n\n\n\n\n\n\nEveryone is welcome. New dancers and families with children are encouraged to arrive at 7:15 for an introductory lesson. Come with or without a partner; most people change partners for each dance throughout the evening. \n\n\n\nCovid Policy: Masks are optional\, and we are no longer checking vaccination status.   \n\n\n\nFor more information\,  Visit www.northberkshiredance.org or the Facebook page at www.facebook.com/northberkshiredance/. \n\n\n\nUPCOMING DANCES\n\n\n\n\n\n\n\nWe send a quick email reminder once a month before each dance. If you would like to be included\, you can subscribe here. \n\n\n\n\nMay 9th: Williamstown. Fern Bradley will call; plus music by a very fine band.\n\n\n\nJune 13th: North Adams. Open band led by George Wilson and Becking Hollingsworth\, homegrown callers.\n\n\n\nJuly 11th: North Adams\n\n\n\nAugust 8th: North Adams\n\n\n\nSeptember 26th (fourth Saturday): Williamstown. Jeff Walker will call using Gents and Ladies role terms\, music by Jeff and Kathy Walker.\n\n\n\nOctober 10th: Williamstown. Luke Donforth will call to music by “Trois Amies” (Andy Davis\, Laurie Indenbaum\, Mary Cay Brass)\n\n\n\nNovember 14th: Williamstown. Quena Crain will call.\n\n\n\nDecember 12th: Williamstown.\n\n\n\n\nFor more information\, visit www.northberkshiredance.org\, see the Facebook page at www.facebook.com/northberkshiredance/\,  or contact doonemackay@gmail.com. 
URL:https://www.danceflurry.org/event/north-berkshire-community-dance-3/
LOCATION:All Saints Episcopal Church\, 59 Summer St.\, North Adams\, Massachusetts\, 01247\, United States
CATEGORIES:Community & Family Dances,Contra
ATTACH;FMTTYPE=image/png:https://www.danceflurry.org/wp-content/uploads/2022/09/generic-contra-banner-1200-pixels-wide.png
END:VEVENT
BEGIN:VEVENT
DTSTART;TZID=America/New_York:20261114T191500
DTEND;TZID=America/New_York:20261114T223000
DTSTAMP:20260421T101610
CREATED:20260407T001530Z
LAST-MODIFIED:20260407T001908Z
UID:10003999-1794683700-1794695400@www.danceflurry.org
SUMMARY:North Berkshire Community Dance
DESCRIPTION:* Williamstown location *Quena Crain calling \n\n\n\nAdmission is pay-as-you-can:  $5 – $15\, or barter equivalent\, suggested.  \n\n\n\nAs a community dance in a small college town\, we welcome people of all ages and backgrounds into the ever-changing tradition of New England contra dance.  Contra dancing is the contemporary face of a living tradition; some of the dances are hundreds of years old\, some are recently composed. Some of the dances are hundreds of years old\, some are recently composed; all are good fun and a pleasurable occasion for meeting and interacting with people both new and familiar. \n\n\n\n\n\n\n\nEveryone is welcome. New dancers and families with children are encouraged to arrive at 7:15 for an introductory lesson. Come with or without a partner; most people change partners for each dance throughout the evening. \n\n\n\nCovid Policy: Masks are optional\, and we are no longer checking vaccination status.   \n\n\n\nFor more information\,  Visit www.northberkshiredance.org or the Facebook page at www.facebook.com/northberkshiredance/. \n\n\n\nUPCOMING DANCES\n\n\n\n\n\n\n\nWe send a quick email reminder once a month before each dance. If you would like to be included\, you can subscribe here. \n\n\n\n\nMay 9th: Williamstown. Fern Bradley will call; plus music by a very fine band.\n\n\n\nJune 13th: North Adams. Open band led by George Wilson and Becking Hollingsworth\, homegrown callers.\n\n\n\nJuly 11th: North Adams\n\n\n\nAugust 8th: North Adams\n\n\n\nSeptember 26th (fourth Saturday): Williamstown. Jeff Walker will call using Gents and Ladies role terms\, music by Jeff and Kathy Walker.\n\n\n\nOctober 10th: Williamstown. Luke Donforth will call to music by “Trois Amies” (Andy Davis\, Laurie Indenbaum\, Mary Cay Brass)\n\n\n\nNovember 14th: Williamstown. Quena Crain will call.\n\n\n\nDecember 12th: Williamstown.\n\n\n\n\nFor more information\, visit www.northberkshiredance.org\, see the Facebook page at www.facebook.com/northberkshiredance/\,  or contact doonemackay@gmail.com. 
URL:https://www.danceflurry.org/event/north-berkshire-community-dance-4/
LOCATION:All Saints Episcopal Church\, 59 Summer St.\, North Adams\, Massachusetts\, 01247\, United States
CATEGORIES:Community & Family Dances,Contra
ATTACH;FMTTYPE=image/png:https://www.danceflurry.org/wp-content/uploads/2022/09/generic-contra-banner-1200-pixels-wide.png
END:VEVENT
BEGIN:VEVENT
DTSTART;TZID=America/New_York:20261212T191500
DTEND;TZID=America/New_York:20261212T223000
DTSTAMP:20260421T101610
CREATED:20260407T001839Z
LAST-MODIFIED:20260407T001843Z
UID:10004000-1797102900-1797114600@www.danceflurry.org
SUMMARY:North Berkshire Community Dance
DESCRIPTION:* Williamstown location *TBA \n\n\n\nAdmission is pay-as-you-can:  $5 – $15\, or barter equivalent\, suggested.  \n\n\n\nAs a community dance in a small college town\, we welcome people of all ages and backgrounds into the ever-changing tradition of New England contra dance.  Contra dancing is the contemporary face of a living tradition; some of the dances are hundreds of years old\, some are recently composed. Some of the dances are hundreds of years old\, some are recently composed; all are good fun and a pleasurable occasion for meeting and interacting with people both new and familiar. \n\n\n\n\n\n\n\nEveryone is welcome. New dancers and families with children are encouraged to arrive at 7:15 for an introductory lesson. Come with or without a partner; most people change partners for each dance throughout the evening. \n\n\n\nCovid Policy: Masks are optional\, and we are no longer checking vaccination status.   \n\n\n\nFor more information\,  Visit www.northberkshiredance.org or the Facebook page at www.facebook.com/northberkshiredance/. \n\n\n\nUPCOMING DANCES\n\n\n\n\n\n\n\nWe send a quick email reminder once a month before each dance. If you would like to be included\, you can subscribe here. \n\n\n\n\nMay 9th: Williamstown. Fern Bradley will call; plus music by a very fine band.\n\n\n\nJune 13th: North Adams. Open band led by George Wilson and Becking Hollingsworth\, homegrown callers.\n\n\n\nJuly 11th: North Adams\n\n\n\nAugust 8th: North Adams\n\n\n\nSeptember 26th (fourth Saturday): Williamstown. Jeff Walker will call using Gents and Ladies role terms\, music by Jeff and Kathy Walker.\n\n\n\nOctober 10th: Williamstown. Luke Donforth will call to music by “Trois Amies” (Andy Davis\, Laurie Indenbaum\, Mary Cay Brass)\n\n\n\nNovember 14th: Williamstown. Quena Crain will call.\n\n\n\nDecember 9th: Williamstown.\n\n\n\n\nFor more information\, visit www.northberkshiredance.org\, see the Facebook page at www.facebook.com/northberkshiredance/\,  or contact doonemackay@gmail.com. 
URL:https://www.danceflurry.org/event/north-berkshire-community-dance_12-12-26/
LOCATION:All Saints Episcopal Church\, 59 Summer St.\, North Adams\, Massachusetts\, 01247\, United States
CATEGORIES:Community & Family Dances,Contra
ATTACH;FMTTYPE=image/png:https://www.danceflurry.org/wp-content/uploads/2022/09/generic-contra-banner-1200-pixels-wide.png
END:VEVENT
END:VCALENDAR